BEGIN:VCALENDAR
VERSION:2.0
PRODID:-//Inspire Decisions - ECPv6.15.20//NONSGML v1.0//EN
CALSCALE:GREGORIAN
METHOD:PUBLISH
X-ORIGINAL-URL:https://inspiredecisions.com
X-WR-CALDESC:Events for Inspire Decisions
REFRESH-INTERVAL;VALUE=DURATION:PT1H
X-Robots-Tag:noindex
X-PUBLISHED-TTL:PT1H
BEGIN:VTIMEZONE
TZID:Africa/Lagos
BEGIN:STANDARD
TZOFFSETFROM:+0100
TZOFFSETTO:+0100
TZNAME:WAT
DTSTART:20230101T000000
END:STANDARD
END:VTIMEZONE
BEGIN:VEVENT
DTSTART;VALUE=DATE:20240929
DTEND;VALUE=DATE:20240930
DTSTAMP:20260420T192317
CREATED:20240829T090743Z
LAST-MODIFIED:20240831T180836Z
UID:15011-1727568000-1727654399@inspiredecisions.com
SUMMARY:International Day of Awareness of Food Loss and Waste
DESCRIPTION:Get ready to take action on the International Day of Awareness of Food Loss and Waste—because food is too valuable to waste.
URL:https://inspiredecisions.com/event/international-day-of-awareness-of-food-loss-and-waste/
CATEGORIES:Event Announcements
END:VEVENT
BEGIN:VEVENT
DTSTART;VALUE=DATE:20240927
DTEND;VALUE=DATE:20240928
DTSTAMP:20260420T192317
CREATED:20240829T090639Z
LAST-MODIFIED:20240831T180817Z
UID:15008-1727395200-1727481599@inspiredecisions.com
SUMMARY:Launch of Knowledge Repository
DESCRIPTION:On this day\, we launch the IDC/GAIN Knowledge Repository. This will be your go-to hub for transformative food industry insights.
URL:https://inspiredecisions.com/event/launch-of-knowledge-repository/
CATEGORIES:Event Announcements
END:VEVENT
BEGIN:VEVENT
DTSTART;TZID=Africa/Lagos:20240830T080000
DTEND;TZID=Africa/Lagos:20240927T170000
DTSTAMP:20260420T192317
CREATED:20240829T084638Z
LAST-MODIFIED:20240831T185300Z
UID:15005-1725004800-1727456400@inspiredecisions.com
SUMMARY:Call for Applications Opened
DESCRIPTION:It’s official! The EPIC Accelerator is NOW OPEN! \nIf you’re in the nutritious food space\, this is your chance to grow\, innovate and make a lasting impact in Nigeria’s food sector. \nClick here to register and be part of the transformation…
URL:https://inspiredecisions.com/event/call-for-applications-opened/
CATEGORIES:Event Announcements
ATTACH;FMTTYPE=image/jpeg:https://inspiredecisions.com/wp-content/uploads/application-epic-accelerator-2.jpg
END:VEVENT
BEGIN:VEVENT
DTSTART;VALUE=DATE:20240701
DTEND;VALUE=DATE:20240702
DTSTAMP:20260420T192317
CREATED:20240831T180614Z
LAST-MODIFIED:20240831T180614Z
UID:15050-1719792000-1719878399@inspiredecisions.com
SUMMARY:Inspire Decisions is proud to announce the kickoff of its EPIC Accelerator Program!
DESCRIPTION:Discover how we are transforming the nutritious food sector. \nFollow us across our social media handles to stay updated!
URL:https://inspiredecisions.com/event/inspire-decisions-is-proud-to-announce-the-kickoff-of-its-epic-accelerator-program/
CATEGORIES:Event Announcements
END:VEVENT
END:VCALENDAR