BEGIN:VCALENDAR
VERSION:2.0
PRODID:-//Inspire Decisions - ECPv6.15.20//NONSGML v1.0//EN
CALSCALE:GREGORIAN
METHOD:PUBLISH
X-WR-CALNAME:Inspire Decisions
X-ORIGINAL-URL:https://inspiredecisions.com
X-WR-CALDESC:Events for Inspire Decisions
REFRESH-INTERVAL;VALUE=DURATION:PT1H
X-Robots-Tag:noindex
X-PUBLISHED-TTL:PT1H
BEGIN:VTIMEZONE
TZID:Africa/Lagos
BEGIN:STANDARD
TZOFFSETFROM:+0100
TZOFFSETTO:+0100
TZNAME:WAT
DTSTART:20230101T000000
END:STANDARD
END:VTIMEZONE
BEGIN:VEVENT
DTSTART;TZID=Africa/Lagos:20250212T080000
DTEND;TZID=Africa/Lagos:20250213T170000
DTSTAMP:20260422T112503
CREATED:20250406T171702Z
LAST-MODIFIED:20250406T172127Z
UID:15321-1739347200-1739466000@inspiredecisions.com
SUMMARY:EPIC Bootcamp for Ogun State Nutritious Food MSMEs
DESCRIPTION:Exciting news for Ogun State MSMEs in the nutritious food sector. \nWe are thrilled to announce the upcoming Empowering\, Propelling and Impacting Nutritious Food Businesses and Communities (EPIC) Accelerator Training in Ogun State. \nThis immersive training is designed to equip Ogun-based MSMEs in the nutritious food sector with innovative strategies and practical skills for sustainable growth. \nDon’t miss this opportunity to elevate your business and drive impact in your community. \nDate: February 12–13\, 2025.\nTime: 9 – 2 PM daily\nVenue: Quarry Imperial Hotel\, 52 Quarry Road\, Abeokuta\, Ogun State.
URL:https://inspiredecisions.com/event/15321/
ATTACH;FMTTYPE=image/webp:https://inspiredecisions.com/wp-content/uploads/inspiredecisionsconsulting_1739064665_3563855174577535745_48127924266.webp
END:VEVENT
BEGIN:VEVENT
DTSTART;VALUE=DATE:20250130
DTEND;VALUE=DATE:20250131
DTSTAMP:20260422T112503
CREATED:20250406T181706Z
LAST-MODIFIED:20250406T181706Z
UID:15338-1738195200-1738281599@inspiredecisions.com
SUMMARY:Strategic partnership with The Alternative Bank
DESCRIPTION:On Thursday\, January 30\,\, 2025\, we entered into a strategic partnership with The Alternative Bank to empower investment-ready MSMEs graduating from the EPIC Accelerator Program in collaboration with the Global Alliance for Improved Nutrition (GAIN) with a range of funding opportunities available through The Alternative Bank.  \nIn addition\, both organizations will work together to design and intermediate innovative finance mechanisms and blended finance solutions\, particularly targeting the agriculture and energy sectors.
URL:https://inspiredecisions.com/event/strategic-partnership-with-the-alternative-bank/
ATTACH;FMTTYPE=image/jpeg:https://inspiredecisions.com/wp-content/uploads/inspiredecisionsconsulting_1739638885_3568672083866448694_48127924266-2.jpg
END:VEVENT
BEGIN:VEVENT
DTSTART;VALUE=DATE:20241205
DTEND;VALUE=DATE:20241206
DTSTAMP:20260422T112503
CREATED:20240829T091501Z
LAST-MODIFIED:20240831T181300Z
UID:15032-1733356800-1733443199@inspiredecisions.com
SUMMARY:World Soil Day
DESCRIPTION:Healthy soil\, healthy planet. Let’s protect the foundation of our ecosystems and food security.
URL:https://inspiredecisions.com/event/world-soil-day/
CATEGORIES:Event Announcements
END:VEVENT
BEGIN:VEVENT
DTSTART;VALUE=DATE:20241203
DTEND;VALUE=DATE:20241204
DTSTAMP:20260422T112503
CREATED:20240829T091427Z
LAST-MODIFIED:20240831T181238Z
UID:15030-1733184000-1733270399@inspiredecisions.com
SUMMARY:International Day of Persons with Disabilities
DESCRIPTION:We believe in empowering and supporting persons with disabilities to ensure an inclusive and accessible world for everyone.
URL:https://inspiredecisions.com/event/international-day-of-persons-with-disabilities/
CATEGORIES:Event Announcements
END:VEVENT
BEGIN:VEVENT
DTSTART;VALUE=DATE:20241125
DTEND;VALUE=DATE:20241126
DTSTAMP:20260422T112503
CREATED:20240829T091353Z
LAST-MODIFIED:20240831T181217Z
UID:15028-1732492800-1732579199@inspiredecisions.com
SUMMARY:International Day for the Elimination of Violence against Women
DESCRIPTION:Let us stand united against violence because every woman deserves to live in safety and dignity.
URL:https://inspiredecisions.com/event/international-day-for-the-elimination-of-violence-against-women/
CATEGORIES:Event Announcements
END:VEVENT
BEGIN:VEVENT
DTSTART;VALUE=DATE:20241017
DTEND;VALUE=DATE:20241018
DTSTAMP:20260422T112503
CREATED:20240829T091307Z
LAST-MODIFIED:20240831T181158Z
UID:15025-1729123200-1729209599@inspiredecisions.com
SUMMARY:International Day for the Eradication of Poverty
DESCRIPTION:Together\, we can create a world where poverty is a thing of the past. Let’s work toward a future of equality and opportunity for all.
URL:https://inspiredecisions.com/event/international-day-for-the-eradication-of-poverty/
CATEGORIES:Event Announcements
END:VEVENT
BEGIN:VEVENT
DTSTART;VALUE=DATE:20241016
DTEND;VALUE=DATE:20241017
DTSTAMP:20260422T112503
CREATED:20240829T091229Z
LAST-MODIFIED:20240831T181127Z
UID:15023-1729036800-1729123199@inspiredecisions.com
SUMMARY:World Food Day
DESCRIPTION:Join us as we highlight the importance of food security and the need to build a world free from hunger.
URL:https://inspiredecisions.com/event/world-food-day/
CATEGORIES:Event Announcements
END:VEVENT
BEGIN:VEVENT
DTSTART;VALUE=DATE:20241015
DTEND;VALUE=DATE:20241016
DTSTAMP:20260422T112503
CREATED:20240829T091143Z
LAST-MODIFIED:20240831T181133Z
UID:15021-1728950400-1729036799@inspiredecisions.com
SUMMARY:International Day of Rural Women
DESCRIPTION:On this day we celebrate the strength and resilience of rural women who are the backbone of our communities.
URL:https://inspiredecisions.com/event/international-day-of-rural-women/
CATEGORIES:Event Announcements
END:VEVENT
BEGIN:VEVENT
DTSTART;TZID=Africa/Lagos:20241014T080000
DTEND;TZID=Africa/Lagos:20241129T170000
DTSTAMP:20260422T112503
CREATED:20240829T091058Z
LAST-MODIFIED:20240831T180948Z
UID:15019-1728892800-1732899600@inspiredecisions.com
SUMMARY:In-Person Training for Multiple Cohorts
DESCRIPTION:Starting October 14 through November 29\, each cohort will have dedicated in-person training days tailored to their unique journey.
URL:https://inspiredecisions.com/event/in-person-training-for-multiple-cohorts/
CATEGORIES:Event Announcements
END:VEVENT
BEGIN:VEVENT
DTSTART;VALUE=DATE:20241011
DTEND;VALUE=DATE:20241012
DTSTAMP:20260422T112503
CREATED:20240829T091006Z
LAST-MODIFIED:20240831T180926Z
UID:15016-1728604800-1728691199@inspiredecisions.com
SUMMARY:Notification of Training Dates and Venue
DESCRIPTION:Look out for details on your training dates and venue for the EPIC Accelerator. This journey is going to be exciting. We promise you.
URL:https://inspiredecisions.com/event/notification-of-training-dates-and-venue/
CATEGORIES:Event Announcements
END:VEVENT
BEGIN:VEVENT
DTSTART;VALUE=DATE:20241004
DTEND;VALUE=DATE:20241005
DTSTAMP:20260422T112503
CREATED:20240829T090844Z
LAST-MODIFIED:20240831T180858Z
UID:15013-1728000000-1728086399@inspiredecisions.com
SUMMARY:Notification of Acceptance or Non-acceptance
DESCRIPTION:We will be reaching out to all those who expressed interest in the EPIC Accelerator. Stay tuned for your acceptance or non-acceptance notice.
URL:https://inspiredecisions.com/event/notification-of-acceptance-or-non-acceptance/
CATEGORIES:Event Announcements
END:VEVENT
BEGIN:VEVENT
DTSTART;VALUE=DATE:20240929
DTEND;VALUE=DATE:20240930
DTSTAMP:20260422T112503
CREATED:20240829T090743Z
LAST-MODIFIED:20240831T180836Z
UID:15011-1727568000-1727654399@inspiredecisions.com
SUMMARY:International Day of Awareness of Food Loss and Waste
DESCRIPTION:Get ready to take action on the International Day of Awareness of Food Loss and Waste—because food is too valuable to waste.
URL:https://inspiredecisions.com/event/international-day-of-awareness-of-food-loss-and-waste/
CATEGORIES:Event Announcements
END:VEVENT
BEGIN:VEVENT
DTSTART;VALUE=DATE:20240927
DTEND;VALUE=DATE:20240928
DTSTAMP:20260422T112503
CREATED:20240829T090639Z
LAST-MODIFIED:20240831T180817Z
UID:15008-1727395200-1727481599@inspiredecisions.com
SUMMARY:Launch of Knowledge Repository
DESCRIPTION:On this day\, we launch the IDC/GAIN Knowledge Repository. This will be your go-to hub for transformative food industry insights.
URL:https://inspiredecisions.com/event/launch-of-knowledge-repository/
CATEGORIES:Event Announcements
END:VEVENT
BEGIN:VEVENT
DTSTART;TZID=Africa/Lagos:20240830T080000
DTEND;TZID=Africa/Lagos:20240927T170000
DTSTAMP:20260422T112503
CREATED:20240829T084638Z
LAST-MODIFIED:20240831T185300Z
UID:15005-1725004800-1727456400@inspiredecisions.com
SUMMARY:Call for Applications Opened
DESCRIPTION:It’s official! The EPIC Accelerator is NOW OPEN! \nIf you’re in the nutritious food space\, this is your chance to grow\, innovate and make a lasting impact in Nigeria’s food sector. \nClick here to register and be part of the transformation…
URL:https://inspiredecisions.com/event/call-for-applications-opened/
CATEGORIES:Event Announcements
ATTACH;FMTTYPE=image/jpeg:https://inspiredecisions.com/wp-content/uploads/application-epic-accelerator-2.jpg
END:VEVENT
BEGIN:VEVENT
DTSTART;VALUE=DATE:20240701
DTEND;VALUE=DATE:20240702
DTSTAMP:20260422T112503
CREATED:20240831T180614Z
LAST-MODIFIED:20240831T180614Z
UID:15050-1719792000-1719878399@inspiredecisions.com
SUMMARY:Inspire Decisions is proud to announce the kickoff of its EPIC Accelerator Program!
DESCRIPTION:Discover how we are transforming the nutritious food sector. \nFollow us across our social media handles to stay updated!
URL:https://inspiredecisions.com/event/inspire-decisions-is-proud-to-announce-the-kickoff-of-its-epic-accelerator-program/
CATEGORIES:Event Announcements
END:VEVENT
END:VCALENDAR